BEGIN:VCALENDAR
VERSION:2.0
METHOD:PUBLISH
BEGIN:VEVENT
UID:WILD_APRICOT_EVENT_2198355_SESSION_1
DTSTART:20160605T000000Z
DTEND:20160605T060000Z
SUMMARY:PNB Eco Festival - World Environment Day 5 June 2016
LOCATION:1 Wilson Avenue Ingleside\, NSW\, 2101
DESCRIPTION:https://www.permaculturenorth.org.au/event-2198355\n\n\n  NOTE: THIS EVENT HAS BEEN MOVED FROM 1ST MAY TO 5TH JUNE\n\n  Come and celebrate World Environment Day with us!\n\n  Join in on 'Permaculture Northern Beaches' second annual ECO FESTIVAL to be part of a global celebration with your local community. Enjoy live music\, interesting workshops\, information stands\, stalls\, food and heaps of organic fun all on a permaculture field Sydneys Northern Beaches.\n \n Lots more information coming soon! Check our festival page here:\n\n  http://www.permaculturenorthernbeaches.org.au/event-calendar/2016/eco-festival-world-environment-day\n\n  Any inquiries on having a stall\, playing music\, holding a workshop or being involved please email - p.n.b@hotmail.com\n\n
DTSTAMP:20260424T163526Z
END:VEVENT
END:VCALENDAR
