BEGIN:VCALENDAR
VERSION:2.0
METHOD:PUBLISH
BEGIN:VEVENT
UID:WILD_APRICOT_EVENT_2218400_SESSION_1
DTSTART:20160625T233000Z
DTEND:20160626T060000Z
SUMMARY:PSN Permabee June 26 - Lindfield
LOCATION:Lindfield
DESCRIPTION:https://www.permaculturenorth.org.au/event-2218400\n\n\n\n     Permabee  in Lindfield                \n  Sunday  June 26  10am to 4pm\n  Please come and help build a large chicken run that will keep the chickens safe from foxes\, and keep them comfortable in all seasons.    We have the plan (and we are smarter than foxes).\n  Also we will re-construct a failed frog pond so that it is once again productive and beautiful in the front garden.  \n  Come for a whole day or a half day  – whatever you wish.                                                                                                             \n  Lunch is provided\, as is tea\, coffee and biscuits and interesting conversation. If you wish to bring something yummy for morning tea we would appreciate it.\n  Be sure to bring gloves\, sturdy enclosed shoes\, hat\, water bottle and sun screen.  If you happen to bring hand tools\, be sure they have your name on them. \n  If you're not a member and would like to join our community and take part in this event\, please join here \n  \n Address details will be provided once you have registered. \n  Car pooling is encouraged\n  See you there.\n  Shawn Buchan - Permabee co-ordinator \n  Di Evans - Ku-ring-gai Local Group Coordinator\n   \n                                                                                          \n   \n
DTSTAMP:20260424T163718Z
END:VEVENT
END:VCALENDAR
