BEGIN:VCALENDAR
VERSION:2.0
METHOD:PUBLISH
BEGIN:VEVENT
UID:WILD_APRICOT_EVENT_2219096_SESSION_1
DTSTART:20160827T233000Z
DTEND:20160828T060000Z
SUMMARY:PSN Permabee August 28 - Pennant Hills
LOCATION:Pennant Hills
DESCRIPTION:https://www.permaculturenorth.org.au/event-2219096\n\n\n\n  PSN's August Permabee will be at Sue's garden in Pennant Hills.\n  We will be implementing Sue's new Permaculture Design\, having recently completed her Introduction to Permaculture course with PSN. \n  Be sure to lock in the date in advance. The days activities will be provided closer to the date. Though swales\, frog pond and a banana circle are all in the mix. \n\n  Come along all day or half a day\, its completely up to you. Children are welcome\, with supervision from parents. \n  Lunch\, tea and coffee will of course be provided. \n  If you're not a member and would like to join our community and take part in this event\, please join here \n  \n Be sure to bring gloves\, sturdy enclosed shoes\, hat\, water bottle and sun screen.  If you happen to bring hand tools\, be sure they have your name on them. \n\n  Address details will be provided once you have registered. \n  Car pooling is encouraged. \n
DTSTAMP:20260424T163919Z
END:VEVENT
END:VCALENDAR
