BEGIN:VCALENDAR
VERSION:2.0
METHOD:PUBLISH
BEGIN:VEVENT
UID:WILD_APRICOT_EVENT_2239981_SESSION_1
DTSTART:20160521T040000Z
DTEND:20160521T060000Z
SUMMARY:Living Skills workshop: Herbal Extracts & Cream Making\, May 21st\, 2-4 pm\, Waverton
LOCATION:Waverton
DESCRIPTION:https://www.permaculturenorth.org.au/event-2239981\n\n          \n            \n            Living Skills Workshop:\n     Herbal Extracts & Cream Making\n     May 21st\, Waverton\n      Come to learn how to extract active substances from plants using maceration process and tinctures. These extracts can then be incorporated into creams\, ointments\, lotions\, hair treatments etc which can be made at home very easily\, mainly from ingredients commonly found in most households\, garden herbs and using simple kitchen utensils. \n\nUsing one of Pat Collins recipes we will make a moisturising cream from comfrey\, chamomile and calendula\, setting it with beeswax melted in warm almond oil. Everyone will take home a jar of the cream.\n  This workshop will be conducted by Margaret Mossakowska.\n\n\n What to bring:\n      * a notebook to make notes\n\nRegister by clicking on the "Register" button. If you have problems with registering\, please email mmossakowska@yahoo.com.au\n\n
DTSTAMP:20260424T163902Z
END:VEVENT
END:VCALENDAR
