BEGIN:VCALENDAR
VERSION:2.0
METHOD:PUBLISH
BEGIN:VEVENT
UID:WILD_APRICOT_EVENT_2240616_SESSION_1
DTSTART:20160619T033000Z
DTEND:20160619T063000Z
SUMMARY:Cancelled due to weather : PSN Finding Contours :  June 19 2016 Lindfield
LOCATION:Lindfield
DESCRIPTION:https://www.permaculturenorth.org.au/event-2240616\n\nLocal Group Meeting - Sunday June 19\n  Finding your contours\, where to dig swales and other important stuff\n  Postponed\n  Regrettably this event is postponed until Saturday July 30th . The event is planned to be a practical workshop in the garden and nearby park for the whole afternoon.  The forecast is for steady rain\, wind and generally unsuitable weather.\n  I do hope you will be able to come at the later date.\n   \n   \n  Di Evans    02 9416 1896 \n  devans2@optusnet.com \n
DTSTAMP:20260424T171544Z
END:VEVENT
END:VCALENDAR
