BEGIN:VCALENDAR
VERSION:2.0
METHOD:PUBLISH
BEGIN:VEVENT
UID:WILD_APRICOT_EVENT_2268494_SESSION_1
DTSTART:20160623T091500Z
DTEND:20160623T110000Z
SUMMARY:"JUST EAT IT" FOOD WASTE DOCO - MOVIE AND SOUP NIGHT
LOCATION:Banksia Room\, Nelson Heather Centre\, 5 Jacksons Rd Warriewood.
DESCRIPTION:https://www.permaculturenorth.org.au/event-2268494\n\nFilmmakers and food lovers Jen and Grant dive into the issue of food\n  waste from farm\, through retail\, all the way to the back of their own\n  fridge. After catching a glimpse of the billions of dollars of good food that\n  is tossed each year in North America\, they pledge to quit grocery\n  shopping and survive only on discarded food. What they find is truly\n  shocking.\n  Entry by donation of $10 for non-members and $8 for members.  \n  Hot soup and bread\, teas and coffee available on the night.\n  Swap and share table to exchange surplus and unwanted goods.  \n  Organised by Permaculture Northern Beaches\n  http://permaculturenorthernbeaches.org.au\n\n
DTSTAMP:20260424T165231Z
END:VEVENT
END:VCALENDAR
