BEGIN:VCALENDAR
VERSION:2.0
METHOD:PUBLISH
BEGIN:VEVENT
UID:WILD_APRICOT_EVENT_2270300_SESSION_1
DTSTART:20160730T040000Z
DTEND:20160730T070000Z
SUMMARY:Finding contours\, using a dumpy-level\, swales and other important stuff
LOCATION:Lindfield
DESCRIPTION:https://www.permaculturenorth.org.au/event-2270300\n\n \n   \n  Finding your contours\, where to dig swales and other important stuff\n   Greetings All\,\n  On Saturday\, July 30th Rolf Cambridge (who is a surveyor) is going to do more than teach the Dumpy level use.\n  This is the course guide\n  ·       Use of the dumpy level\; check for adjustment\; how to book the readings—back sight\, intermediate sight and fore sight\; reduction of observations \n  ·       Australian Height Datum (AHD) and how to search for State Survey Marks (SSM's) and field inspection of one or two\, so that they can be recognised. \n  ·       Plotting of the levels that are observed\, perhaps calculating contours\;\n  ·       Marking a contour on the ground.\n  ·       If we have time to spare—he has a 2" soil auger that could be used to investigate a soil profile and determining  pH.\n  He is asking that you bring:\n  ·       A clipboard and  about  4 sheets of A4 paper\, pencil\, small ruler and rubber\n  ·       If you have an 8 m measuring tape that might be useful  (I have a couple here)\n  As usual bring something simple but delicious for afternoon tea.\n  Tea (of various sorts) and coffee provided.\n  PSN has\,  or will have a dumpy- level which you will be able to borrow and now will soon be able to use.\n  We will be outside most of the time\, so comfortable shoes and warm clothes\, hats etc would be good.\n   It will be at my place at Lindfield -  address will be emailed to you on registration.\n  Hope to see you there\,\n  Di Evans.  94161896   devans2@optusnet.com.au\n  Diana Watson  94162929\n   \n
DTSTAMP:20260424T165257Z
END:VEVENT
END:VCALENDAR
