BEGIN:VCALENDAR
VERSION:2.0
METHOD:PUBLISH
BEGIN:VEVENT
UID:WILD_APRICOT_EVENT_2280729_SESSION_1
DTSTART:20160731T000000Z
DTEND:20160731T030000Z
SUMMARY:PNB Living Skills: ECO HOUSE CLEANING PRODUCTS WORKSHOP
LOCATION:Kimbriki EcoHouse\, Kimbriki Rd\, Ingleside
DESCRIPTION:https://www.permaculturenorth.org.au/event-2280729\n\nDid you know that we are exposed to more toxic and hazardous chemicals from using common household cleaning products inside our homes than anywhere else? These incredibly harmful chemicals are causing many illnesses for us and our families and create tons of toxic waste which is disposed into our environment. In the past 40 years\, at least 70\,000 new chemicals have been released into the environment through cleaning and industrial products\, with a US study revealing that its participants carried an average of 43% of these chemicals in their body.\n  Want to make sustainable\, eco friendly\, safe and low cost cleaning products for you home? At this workshop we will make washing powder\, fabric softener\, cleaning sprays and creams\, toilet cleaner\, air fresheners\, liquid hand soaps\, veggie wash and more while boosting your immune system at the same time!\n      * By donation (minimum $15 recommended)\n\n        * Bookings essential contact:  juliegundlach@livingchange.com.au\n\n
DTSTAMP:20260424T165136Z
END:VEVENT
END:VCALENDAR
