BEGIN:VCALENDAR
VERSION:2.0
METHOD:PUBLISH
BEGIN:VEVENT
UID:WILD_APRICOT_EVENT_2282446_SESSION_1
DTSTART:20160723T040000Z
DTEND:20160723T060000Z
SUMMARY:Living Skills workshop: Soap Making\, July 23rd\, Waverton
LOCATION:Waverton
DESCRIPTION:https://www.permaculturenorth.org.au/event-2282446\n\n                                  Living Skills Workshop:                   Soap Making             July 23\, Waverton          You will have an opportunity to learn how to make all-natural handmade soap. Fresh soap needs to cure for 3-6 months\, so what you make now\, could be an appreciated Christmas gift. We will use olive oil and lye\, with garden herbs and essential oils for nice fragrance. \n  Techniques for soap making and safety rules will be discussed in detail before we embark on making our own product for you to take home! \n\n  As we will work with strong lye and hot oil\, for safety reasons the workshop is limited to 8 participants. Please do not bring children to the workshop. \n  This activity will be conducted by Margaret Mossakowska.\n\n\n What to bring:\n      * an apron\, rubber gloves and protective glasses if you are ready for hands-on experience\n\n        * a notebook to take notes\n\nRegister by clicking on the "Register" button. If you have problems with registering\, please email mmossakowska@yahoo.com.au\n \n
DTSTAMP:20260424T163607Z
END:VEVENT
END:VCALENDAR
