BEGIN:VCALENDAR
VERSION:2.0
METHOD:PUBLISH
BEGIN:VEVENT
UID:WILD_APRICOT_EVENT_2289124_SESSION_1
DTSTART:20160730T000000Z
DTEND:20160730T030000Z
SUMMARY:Mini permabee July 30
LOCATION:Lindfield
DESCRIPTION:https://www.permaculturenorth.org.au/event-2289124\n\nThis is a short permabee to finish off the chicken run we started  in June\, put perches in the chicken house\,   maybe make some chicken feeders and have a celebratory lunch where those with experience might give us all some advice about chickens. .\n   I hope participants will stay to enjoy the workshop on " Finding contours with a dumpy-level' which starts at 2pm.    \n  Please register separately for this.\n  Di Evans 94161896\n  Shawn Buchan 0420287049\n
DTSTAMP:20260424T163850Z
END:VEVENT
END:VCALENDAR
