BEGIN:VCALENDAR
VERSION:2.0
METHOD:PUBLISH
BEGIN:VEVENT
UID:WILD_APRICOT_EVENT_2309954_SESSION_1
DTSTART:20160825T091500Z
DTEND:20160825T110000Z
SUMMARY:PNB - THE DIVERSITY OF HEMP + ECO MARKET
LOCATION:Banksia Room\, Nelson Heather Centre\, 5 Jacksons Rd. Warriewood
DESCRIPTION:https://www.permaculturenorth.org.au/event-2309954\n\nLet's take another look at Hemp!\n  Join us for a night delving into the diversity of the Hemp plant\, gaining valuable information of the many uses the Hemp plant has to offer now and into the future. We are pleased to announce two experienced and knowledgeable speakers:\n  Kirstie Wulf from Shelter Building Design\,  has won a National Building Designers Australia award for her CULBURRA Beach home and will be speaking about the many functions of Hemp as a building material. She will share key lessons learned in building with Hemp.\n  Beatrice Rankin owner of Hemp Gallery and at the fore-front of the Hemp industry in Australia will share her in-depth knowledge of the diverse use of Hemp in the low-environmental-impact manufacturing of textiles\, hair\, body\, skin care\, soap and nutritional products. Quality products made in Australia by Australian owned businesses. Come and get your Hemp questions answered!\n  + INDOOR ECO MARKET\n  The August meeting will also feature our annual indoor market featuring our favourite eco\, ethical and environmentally responsible stall holders - including hemp clothing soap and skin care products. Grab a mid-year eco gift to brighten up your winter. Details of stall holders coming soon.\n  All welcome - by donation for visitors\, free for members.\n  Organised by Permaculture Northern Beaches (PNB)\n  http://permaculturenorthernbeaches.org.au\n\n
DTSTAMP:20260424T165059Z
END:VEVENT
END:VCALENDAR
