BEGIN:VCALENDAR
VERSION:2.0
METHOD:PUBLISH
BEGIN:VEVENT
UID:WILD_APRICOT_EVENT_2312877_SESSION_1
DTSTART:20161001T010000Z
DTEND:20161001T050000Z
SUMMARY:PSN stall at Fagan Park's Sustainable Garden Day - Sat 1 Oct 2016
LOCATION:Fagan Park\, Arcadia Road\, Galston
DESCRIPTION:https://www.permaculturenorth.org.au/event-2312877\n\nCome join PSN members at the PSN Stall at the Fagan Park Sustainable Garden Day\, encouraging and educating the public in Permaculture.  \n  Come for an hour\, or several hours\, any time you can assist is most welcome.  For those who can assist\, please register below and the Garden team will be in contact with details. \n\n  The Sustainable Garden days itself will inspire you to get the family into the garden!  Come for the talks\, tours\, kids' activities\, giveaways and great displays. \n      * Native Plant Giveaway\n\n        * Free Vegetable Seedlings\n\n        * Garden and Compost Tour\n\n        * Native and Honey Bees\n\n        * Backyard Chickens\n\n        * Water Wise Displays\n\n        * Frog and Tadpole Studey Group of NSW\n\n        * Cob Oven Fired Up\n\n        * Love Food Hate Waste Vegetarian Food Samples\n\n        * Rural Fire Service Fire Truck and Sausage Sizzle\n\n        * Kids Activities include Cubby House Building and Treasure Hunt\n\n        * Winner announced for ‘Name the Scarecrow’ Competition\n\n        * "Inala" Weaved Bags Silent Auction\n\n        * Still Creek Landcare\n\n        * Weed indentification\n\n        * Permaculture North\n\n        * Music\n\nVenue:  Eco Garden\n Location: Fagan Park\, Arcadia Road\, Galston\n Time: 11am - 3pm\n Cost: Free ($5 parking fee per vehicle)  \n\n
DTSTAMP:20260424T180424Z
END:VEVENT
END:VCALENDAR
