BEGIN:VCALENDAR
VERSION:2.0
METHOD:PUBLISH
BEGIN:VEVENT
UID:WILD_APRICOT_EVENT_2324452_SESSION_1
DTSTART:20160910T040000Z
DTEND:20160910T060000Z
SUMMARY:PSN September Local Group Meeting 10 September
LOCATION:Marsfield
DESCRIPTION:https://www.permaculturenorth.org.au/event-2324452\n\nHi Everyone\, \n\n  It's time to get our A#*#$ into gear and get our gardens ready to be really productive over the main growing season. Big juicy tomatoes\, beans\, zucchini\, you name it\, and it all grows throughout summer! So spring is really important that we get it right. \n  At the meeting we will talk about\;\n      * ·         Preparing the soil and soil Ph testing.\n\n        *      ·         Crop rotation is a topic that we practise as this keeps our soil free of disease and healthy crops.\n   \n\n        * ·         We will make a simple but effective seed raising mix.\n\n        * ·         Pros and cons of tomatoes.\n\n        * ·         When to start off brassicas\, and\n\n        * ·         Touch on fruit fly prevention.\n\n  Everyone has a story\, so please share and we'll try to come up with some solutions.\n  Register online\, bring a plate to share\, coffee and tea provided. Address is provided upon registration (at the bottom of the confirmation email).\n  Peter Pezzolesi\n 0412817605\n\n  \n\n
DTSTAMP:20260424T163546Z
END:VEVENT
END:VCALENDAR
