BEGIN:VCALENDAR
VERSION:2.0
METHOD:PUBLISH
BEGIN:VEVENT
UID:WILD_APRICOT_EVENT_2403222_SESSION_1
DTSTART:20170318T030000Z
DTEND:20170318T050000Z
SUMMARY:Living Skills: Fragrant Herbal Extracts for Soap & Cream Making\, Saturday March 18th\, 2-4 pm\, Eastwood
LOCATION:Eastwood
DESCRIPTION:https://www.permaculturenorth.org.au/event-2403222\n\n          \n            \n            Living Skills Workshop:\n     Herbal Extracts & Cream Making\n     Saturday March 18th\n      Come to learn how to extract active medicinal substances and fragrances from plants using maceration process and tinctures. These extracts can then be incorporated into soaps\, creams\, ointments\, lotions\, hair treatments etc which can be made at home very easily\, mainly from ingredients commonly found in most households\, garden herbs and using simple kitchen utensils. Some examples of plants used for their fragrance are lemon verbena\, lemon grass\, geranium (lemon and rose)\, citrus peel\, rosemary.\n\nUsing one of Pat Collins recipes we will make a moisturising cream from comfrey\, chamomile and calendula\, setting it with beeswax melted in warm almond oil. Everyone will take home a jar of the cream.\n  This workshop will be conducted by Margaret Mossakowska.\n\n\n What to bring:\n      * a notebook to make notes\n\nRegister by clicking on the "Register" button. If you have problems with registering\, please email mmossakowska@yahoo.com.au\n\n
DTSTAMP:20260424T180723Z
END:VEVENT
END:VCALENDAR
