BEGIN:VCALENDAR
VERSION:2.0
METHOD:PUBLISH
BEGIN:VEVENT
UID:WILD_APRICOT_EVENT_2480701_SESSION_1
DTSTART:20170320T080000Z
DTEND:20170320T103000Z
SUMMARY:Crop Swap Sydney Talk + Event with Laurie Green
LOCATION:Lindfield Community Hall\, 259 Pacific Highway\, Lindfield
DESCRIPTION:https://www.permaculturenorth.org.au/event-2480701\n\nCrop Swap Talk & Event\n  Crop Swap Sydney is a grass roots initiative based on simple bartering principles\, but one that has been modernized by the existing social infrastructure of Facebook. It connects local growers\, provides free workshops\, tastings or talks\, and allows the sharing of excess produce\, plants or seeds anytime\, and often instantly.\n\n  Join Laurie Green\, founder of Crop Swap\, as she discusses the idea\, its evolution\, some of the weird and wonderful items that have been exchanged and its involvement with permaculture.\n  And then\, have fun participating in a Crop Swap event. \n  Bring your excess produce\, eggs\, seeds or seedlings to swap\, if you have some. \n  Don't have any produce in your garden? No worries - bring something you've made e.g. biscuits\, jam\, bread\, dips\, bring anything that you think others will appreciate in exchange for their garden goodies.\n  Free for members\, $5 for guests. \n\n  Doors open at 6:30pm - a good time to check out our members' library & catch up with other PSN members. \n  Please join us for supper after the Crop Swap event.\n
DTSTAMP:20260424T180418Z
END:VEVENT
END:VCALENDAR
