BEGIN:VCALENDAR
VERSION:2.0
METHOD:PUBLISH
BEGIN:VEVENT
UID:WILD_APRICOT_EVENT_2500885_SESSION_1
DTSTART:20170408T030000Z
DTEND:20170408T060000Z
SUMMARY:RYDE LOCAL GROUP MEETING. MAKING A 20 LITRE AERATED COMPOST TEA BREWER
LOCATION:North Ryde - address available with registration
DESCRIPTION:https://www.permaculturenorth.org.au/event-2500885\n\nMAKING A 20 LITRE AERATED COMPOST TEA BREWER\n  Following on from Hornsby Local Group’s talk on the benefits of actively aerated compost teas\, this hands-on workshop will show you how to make a 20 litre bucket brewer for your home garden.  \n  \n\n  Don’t worry if you missed the Hornsby talk\, there will be a short run down on compost teas and recipes to bring you up to speed.  During the workshop you will make your own 20 litre bucket brewer to take home and start brewing - just in time for a productive winter vegetable crop.   \n  Materials for the brewer will be supplied\, including a 20 litre bucket with lid\, pipes\, tubing\, connectors & compost bag.  Please note that the cost DOES NOT include an air pump which you can  purchase online at an estimated cost of $30 to $40 plus postage. \n  Please note that there are limited spaces and registration will close at midnight on Saturday 1 April 2017 to allow time for the organisers to purchase the required equipment.\n
DTSTAMP:20260424T165046Z
END:VEVENT
END:VCALENDAR
