BEGIN:VCALENDAR
VERSION:2.0
METHOD:PUBLISH
BEGIN:VEVENT
UID:WILD_APRICOT_EVENT_2503449_SESSION_1
DTSTART:20170422T000000Z
DTEND:20170422T070000Z
SUMMARY:Permabee 22 April - Permapatch - LaneCove/ Chatswood
LOCATION:Uniting Church\, Cnr Mowbray and Pacific Highway\, Lane Cove/Chatswood
DESCRIPTION:https://www.permaculturenorth.org.au/event-2503449\n\nApril sees the Garden team helping out at the Permapatch spring clean in preparation of opening for International Permaculture Day. \n  Permapatch promotes and practices composting\, companion planting\, animal husbandary\, community\, local action and sustainability.\n\n  The gardens have a great range of initiatives\, including chickens\, a huge aquaponics system\, water tanks\, various styles of composting\, wicking beds\, along with plenty of different styles of garden beds. \n  As mentioned lunch will be provided\, though we need to bring our own morning and afternoon tea.  Don't forget your mug!\n\n  For more information on Permapatch please visits- http://www.permapatch.org.au/\n  Be sure to register for the day to help with catering needs!\n  \n\n
DTSTAMP:20260424T165107Z
END:VEVENT
END:VCALENDAR
