BEGIN:VCALENDAR
VERSION:2.0
METHOD:PUBLISH
BEGIN:VEVENT
UID:WILD_APRICOT_EVENT_3120071_SESSION_1
DTSTART:20181124T040000Z
DTEND:20181124T070000Z
SUMMARY:Seaweed Foraging @ Collaroy - Saturday 24 November
LOCATION:Collaroy
DESCRIPTION:https://www.permaculturenorth.org.au/event-3120071\n\n\n\n  Seaweed Foraging @ Collaroy\n   \n  The weather is getting warmer – which is perfect for hanging out at the beach and doing a bit of seaweed harvesting!\n   \n  Seaweed is packed with all sorts of amazing trace elements for you and your veggie garden soil. You can eat it\, use it as mulch\, make garden nutrient tea and added it to your compost.\n   \n  For more details check out this article: https://www.milkwood.net/2016/06/06/foraging-drying-using-seaweed-australia/\n   \n  Space limited to 10 members\, so book early and don’t miss your spot.  \n   \n  After the seaweed foraging\, we will be having dinner at The Collaroy – so bring a change of clothes.\n  \n\n
DTSTAMP:20260424T183120Z
END:VEVENT
END:VCALENDAR
