BEGIN:VCALENDAR
VERSION:2.0
METHOD:PUBLISH
BEGIN:VEVENT
UID:WILD_APRICOT_EVENT_3230131_SESSION_1
DTSTART:20191026T220000Z
DTEND:20191027T010000Z
SUMMARY:Native Bee Hive Splitting - Sunday 27 October - Pennant Hills
LOCATION:Pennant Hills
DESCRIPTION:https://www.permaculturenorth.org.au/event-3230131\n\n\nNative Bee Hive Splitting - Sun 27 October 2019 - Pennant Hills \n  \n\n  Are you interested in native bees or do you already have a hive ready for a split?\n  \n\n  At this hands on workshop we will be splitting native bee hive(s) and moving half of the brood to a brand new hive.\n  \n\n  So if you want to learn about native bees\, building a hive\, splitting a hive or just want to come and observe\, come along!\n  \n\n  Our experienced and very knowledgeable native bee hive splitter\, Sue will guide us through the process. Sue regularly volunteers with the Ku-ring-gai Council’s native bee program: http://www.wildthings.org.au/index.php/programs-2/native-bees/\n   \n  Space is limited to 10 spots\, so register early and don’t miss out!\n  \n\n  The address will be provided once registration has been completed. The address is within the emailed confirmation\, towards the bottom of the email. \n  \n\n  \n\n  \n\n
DTSTAMP:20260424T170809Z
END:VEVENT
END:VCALENDAR
