BEGIN:VCALENDAR
VERSION:2.0
METHOD:PUBLISH
BEGIN:VEVENT
UID:WILD_APRICOT_EVENT_3253127_SESSION_1
DTSTART:20191020T030000Z
DTEND:20191020T050000Z
SUMMARY:Willoughby Local Group - Sun 20 October 2019 - All about Soil
LOCATION:TBA
DESCRIPTION:https://www.permaculturenorth.org.au/event-3253127\n\n\n\n  Let’s hear from Mandy\, a well seasoned Permie\, who knows too well soil is the most important element for healthy plant growth. She has much to share on this very important topic having many years of hands on experiences growing edibles in her large garden and in leading the local Permaculture group to set up a community garden. She has also broadened her knowledge by attending a 4 day conference on soil with Graeme Saint\, soils expert (see his Ted Talk on Humus) in 2018. Mandy is currently studying a TAFE Horticulture course \, just in case mainstream has a bit more knowledge to impart...\n  \n\n
DTSTAMP:20260424T165533Z
END:VEVENT
END:VCALENDAR
